BEGIN:VCALENDAR
PRODID:-//Inverse inc./SOGo 5.12.7//EN
VERSION:2.0
METHOD:PUBLISH
BEGIN:VTIMEZONE
TZID:Europe/Berlin
BEGIN:DAYLIGHT
DTSTART:19810329T020000
RRULE:FREQ=YEARLY;BYMONTH=3;BYDAY=-1SU
TZNAME:MESZ
TZOFFSETFROM:+0100
TZOFFSETTO:+0200
END:DAYLIGHT
BEGIN:STANDARD
DTSTART:19961027T030000
RRULE:FREQ=YEARLY;BYMONTH=10;BYDAY=-1SU
TZNAME:MEZ
TZOFFSETFROM:+0200
TZOFFSETTO:+0100
END:STANDARD
END:VTIMEZONE
BEGIN:VEVENT
CREATED:20260309T080925Z
DTEND;TZID=Europe/Berlin:20260508T190000
DTSTAMP:20260309T080954Z
DTSTART;TZID=Europe/Berlin:20260508T160000
LAST-MODIFIED:20260422T142644Z
SEQUENCE:0
SUMMARY:Infoveranstaltung Bewerbung M32 Studienstart WS 26/27
TRANSP:OPAQUE
UID:06787D8C-37FB-463B-B6B9-9F015F5F5A92
X-APPLE-CREATOR-IDENTITY:com.apple.calendar
X-APPLE-CREATOR-TEAM-IDENTITY:0000000000
CLASS:PUBLIC
END:VEVENT
BEGIN:VEVENT
UID:267EEA-699EBA00-1-30323480
SUMMARY:2. Wahlpflicht-Wochenende
CLASS:PUBLIC
X-SOGO-SEND-APPOINTMENT-NOTIFICATIONS:NO
TRANSP:OPAQUE
DTSTART;VALUE=DATE:20280630
DTEND;VALUE=DATE:20280702
CREATED:20260225T085908Z
DTSTAMP:20260225T085908Z
LAST-MODIFIED:20260225T085908Z
END:VEVENT
BEGIN:VEVENT
UID:26FFD9-699EB980-1-210C6E40
SUMMARY:Konsultationswochenende
CLASS:PUBLIC
TRANSP:OPAQUE
DTSTART;VALUE=DATE:20271126
DTEND;VALUE=DATE:20271128
CREATED:20260225T085642Z
DTSTAMP:20260225T085642Z
LAST-MODIFIED:20260225T085648Z
X-SOGO-SEND-APPOINTMENT-NOTIFICATIONS:NO
END:VEVENT
BEGIN:VEVENT
UID:26FFD9-699EB980-3-210C6E40
SUMMARY:3. Klausur + Vertiefungslehrgebiete
CLASS:PUBLIC
X-SOGO-SEND-APPOINTMENT-NOTIFICATIONS:NO
TRANSP:OPAQUE
DTSTART;VALUE=DATE:20280204
DTEND;VALUE=DATE:20280206
CREATED:20260225T085740Z
DTSTAMP:20260225T085740Z
LAST-MODIFIED:20260225T085820Z
SEQUENCE:2
END:VEVENT
BEGIN:VEVENT
UID:2C56F0-699EB700-9-3927D080
SUMMARY:Konsultationswochenende
CLASS:PUBLIC
X-SOGO-SEND-APPOINTMENT-NOTIFICATIONS:NO
TRANSP:OPAQUE
DTSTART;VALUE=DATE:20261030
DTEND;VALUE=DATE:20261101
CREATED:20260225T084713Z
DTSTAMP:20260225T084713Z
LAST-MODIFIED:20260225T084713Z
END:VEVENT
BEGIN:VEVENT
UID:2CC6D0-699EB880-B-1F5179E0
SUMMARY:Konsultationswochenende
CLASS:PUBLIC
X-SOGO-SEND-APPOINTMENT-NOTIFICATIONS:NO
TRANSP:OPAQUE
DTSTART;VALUE=DATE:20270521
DTEND;VALUE=DATE:20270523
CREATED:20260225T085310Z
DTSTAMP:20260225T085310Z
LAST-MODIFIED:20260225T085326Z
SEQUENCE:1
END:VEVENT
BEGIN:VEVENT
UID:2CC6D0-699EBA00-F-1F5179E0
SUMMARY:Abschluss-Wochenende
CLASS:PUBLIC
X-SOGO-SEND-APPOINTMENT-NOTIFICATIONS:NO
TRANSP:OPAQUE
DTSTART;VALUE=DATE:20280721
DTEND;VALUE=DATE:20280723
CREATED:20260225T085926Z
DTSTAMP:20260225T085926Z
LAST-MODIFIED:20260225T085926Z
END:VEVENT
BEGIN:VEVENT
UID:2CD33C-699EB780-F-58E1DC00
SUMMARY:Konsultationswochenende
CLASS:PUBLIC
X-SOGO-SEND-APPOINTMENT-NOTIFICATIONS:NO
TRANSP:OPAQUE
DTSTART;VALUE=DATE:20261204
DTEND;VALUE=DATE:20261206
CREATED:20260225T084850Z
DTSTAMP:20260225T084850Z
LAST-MODIFIED:20260225T084850Z
END:VEVENT
BEGIN:VEVENT
UID:2CF773-699EB980-3-47F73E00
SUMMARY:1. Wahlpflicht-Wochenende
CLASS:PUBLIC
X-SOGO-SEND-APPOINTMENT-NOTIFICATIONS:NO
TRANSP:OPAQUE
DTSTART;VALUE=DATE:20280512
DTEND;VALUE=DATE:20280514
CREATED:20260225T085845Z
DTSTAMP:20260225T085845Z
LAST-MODIFIED:20260225T085845Z
END:VEVENT
BEGIN:VEVENT
UID:2CF7A7-699EB780-7-3EDE6A00
SUMMARY:Konsultationswochenende
CLASS:PUBLIC
X-SOGO-SEND-APPOINTMENT-NOTIFICATIONS:NO
TRANSP:OPAQUE
DTSTART;VALUE=DATE:20270122
DTEND;VALUE=DATE:20270124
CREATED:20260225T084918Z
DTSTAMP:20260225T084918Z
LAST-MODIFIED:20260225T084918Z
END:VEVENT
BEGIN:VEVENT
UID:2CF7A7-699EB880-D-3EDE6A00
SUMMARY:Konsultationswochenende
CLASS:PUBLIC
TRANSP:OPAQUE
DTSTART;VALUE=DATE:20270625
DTEND;VALUE=DATE:20270627
CREATED:20260225T085358Z
DTSTAMP:20260225T085358Z
LAST-MODIFIED:20260225T085358Z
END:VEVENT
BEGIN:VEVENT
UID:2CF8A4-699EB900-1-62802180
SUMMARY:Konsultationswochenende
CLASS:PUBLIC
X-SOGO-SEND-APPOINTMENT-NOTIFICATIONS:NO
TRANSP:OPAQUE
DTSTART;VALUE=DATE:20271112
DTEND;VALUE=DATE:20271114
CREATED:20260225T085631Z
DTSTAMP:20260225T085631Z
LAST-MODIFIED:20260225T085631Z
END:VEVENT
BEGIN:VEVENT
UID:2CFCD0-699EB900-9-2E0FC040
SUMMARY:Konsultationswochenende
CLASS:PUBLIC
X-SOGO-SEND-APPOINTMENT-NOTIFICATIONS:NO
TRANSP:OPAQUE
DTSTART;VALUE=DATE:20271022
DTEND;VALUE=DATE:20271024
CREATED:20260225T085612Z
DTSTAMP:20260225T085612Z
LAST-MODIFIED:20260225T085612Z
END:VEVENT
BEGIN:VEVENT
UID:2D0368-699EB700-3-38504340
SUMMARY:Konsultationswochenende
CLASS:PUBLIC
X-SOGO-SEND-APPOINTMENT-NOTIFICATIONS:NO
TRANSP:OPAQUE
DTSTART;VALUE=DATE:20261120
DTEND;VALUE=DATE:20261122
CREATED:20260225T084748Z
DTSTAMP:20260225T084748Z
LAST-MODIFIED:20260225T084748Z
END:VEVENT
BEGIN:VEVENT
UID:2D05BE-699EB880-3-82C7930
SUMMARY:Konsultationswochenende
CLASS:PUBLIC
X-SOGO-SEND-APPOINTMENT-NOTIFICATIONS:NO
TRANSP:OPAQUE
DTSTART;VALUE=DATE:20270409
DTEND;VALUE=DATE:20270411
CREATED:20260225T085236Z
DTSTAMP:20260225T085236Z
LAST-MODIFIED:20260225T085236Z
END:VEVENT
BEGIN:VEVENT
UID:2D0D7A-699EB780-1-525C96
SUMMARY:Konsultationswochenende
CLASS:PUBLIC
X-SOGO-SEND-APPOINTMENT-NOTIFICATIONS:NO
TRANSP:OPAQUE
DTSTART;VALUE=DATE:20270108
DTEND;VALUE=DATE:20270110
CREATED:20260225T084910Z
DTSTAMP:20260225T084910Z
LAST-MODIFIED:20260225T084910Z
END:VEVENT
BEGIN:VEVENT
UID:2D0D7A-699EB880-5-525C96
SUMMARY:Konsultationswochenende
CLASS:PUBLIC
X-SOGO-SEND-APPOINTMENT-NOTIFICATIONS:NO
TRANSP:OPAQUE
DTSTART;VALUE=DATE:20270604
DTEND;VALUE=DATE:20270606
CREATED:20260225T085346Z
DTSTAMP:20260225T085346Z
LAST-MODIFIED:20260225T085346Z
END:VEVENT
BEGIN:VEVENT
UID:2D0DB9-699EB880-3-7A730B80
SUMMARY:Konsultationswochenende
CLASS:PUBLIC
X-SOGO-SEND-APPOINTMENT-NOTIFICATIONS:NO
TRANSP:OPAQUE
DTSTART;VALUE=DATE:20270423
DTEND;VALUE=DATE:20270425
CREATED:20260225T085256Z
DTSTAMP:20260225T085256Z
LAST-MODIFIED:20260225T085256Z
END:VEVENT
BEGIN:VEVENT
UID:2D105A-699EB880-5-17A83A60
SUMMARY:2. Klausur + Vertiefungslehrgebiete
CLASS:PUBLIC
X-SOGO-SEND-APPOINTMENT-NOTIFICATIONS:NO
TRANSP:OPAQUE
DTSTART;VALUE=DATE:20270716
DTEND;VALUE=DATE:20270718
CREATED:20260225T085428Z
DTSTAMP:20260225T085428Z
LAST-MODIFIED:20260225T085549Z
SEQUENCE:2
END:VEVENT
BEGIN:VEVENT
UID:2D108D-699EB800-1-73A9EA80
SUMMARY:1. Klausur + Vertiefungslehrgebiete
CLASS:PUBLIC
X-SOGO-SEND-APPOINTMENT-NOTIFICATIONS:NO
TRANSP:OPAQUE
DTSTART;VALUE=DATE:20270212
DTEND;VALUE=DATE:20270214
CREATED:20260225T085158Z
DTSTAMP:20260225T085158Z
LAST-MODIFIED:20260225T085529Z
SEQUENCE:1
END:VEVENT
BEGIN:VEVENT
UID:2D1937-699EB980-1-78913300
SUMMARY:Konsultationswochenende
CLASS:PUBLIC
X-SOGO-SEND-APPOINTMENT-NOTIFICATIONS:NO
TRANSP:OPAQUE
DTSTART;VALUE=DATE:20271210
DTEND;VALUE=DATE:20271212
CREATED:20260225T085704Z
DTSTAMP:20260225T085704Z
LAST-MODIFIED:20260225T085704Z
END:VEVENT
BEGIN:VEVENT
UID:2D1937-699EB980-3-78913300
SUMMARY:Konsultationswochenende
CLASS:PUBLIC
X-SOGO-SEND-APPOINTMENT-NOTIFICATIONS:NO
TRANSP:OPAQUE
DTSTART;VALUE=DATE:20280114
DTEND;VALUE=DATE:20280116
CREATED:20260225T085729Z
DTSTAMP:20260225T085729Z
LAST-MODIFIED:20260225T085729Z
END:VEVENT
BEGIN:VEVENT
UID:36A131-6995C100-1-1B297DE0
SUMMARY:Info-Veranstaltung
CLASS:PUBLIC
X-SOGO-SEND-APPOINTMENT-NOTIFICATIONS:NO
TRANSP:OPAQUE
DTSTART;TZID=Europe/Berlin:20260410T160000
DTEND;TZID=Europe/Berlin:20260410T180000
CREATED:20260218T133925Z
DTSTAMP:20260218T133925Z
LAST-MODIFIED:20260218T133925Z
END:VEVENT
BEGIN:VEVENT
CREATED:20260225T084522Z
DTEND;VALUE=DATE:20261011
DTSTAMP:20260225T084522Z
DTSTART;VALUE=DATE:20261006
LAST-MODIFIED:20260225T084628Z
SEQUENCE:0
SUMMARY:Einführungswoche M32
TRANSP:TRANSPARENT
UID:E1CB142B-ABDB-4DD8-81FB-5B7C13DBAA55
X-APPLE-CREATOR-IDENTITY:com.apple.calendar
X-APPLE-CREATOR-TEAM-IDENTITY:0000000000
CLASS:PUBLIC
X-SOGO-SEND-APPOINTMENT-NOTIFICATIONS:NO
END:VEVENT
X-WR-CALNAME:M32 (Ulla Wimmer <fernstudium.ibi@hu-berlin.de>)
END:VCALENDAR